Package: RnaSeqSampleSize Version: 2.14.0 Command: rm -rf RnaSeqSampleSize.buildbin-libdir && mkdir RnaSeqSampleSize.buildbin-libdir && /Users/biocbuild/BBS/utils/build-universal.sh RnaSeqSampleSize_2.14.0.tar.gz /Library/Frameworks/R.framework/Resources/bin/R RnaSeqSampleSize.buildbin-libdir StartedAt: 2024-10-18 20:25:03 -0400 (Fri, 18 Oct 2024) EndedAt: 2024-10-18 20:26:22 -0400 (Fri, 18 Oct 2024) EllapsedTime: 78.5 seconds RetCode: 0 Status: OK PackageFile: RnaSeqSampleSize_2.14.0.tgz PackageFileSize: 329.5 KiB