Package: RnBeads Version: 2.22.0 Command: chmod a+r RnBeads -R && E:\biocbuild\bbs-3.19-bioc\R\bin\R.exe CMD build --keep-empty-dirs --no-resave-data RnBeads StartedAt: 2024-10-16 21:35:27 -0400 (Wed, 16 Oct 2024) EndedAt: 2024-10-16 21:38:59 -0400 (Wed, 16 Oct 2024) EllapsedTime: 211.5 seconds RetCode: 0 Status: OK PackageFile: RnBeads_2.22.0.tar.gz PackageFileSize: 7.053 MiB