Package: RnBeads Version: 2.22.0 Command: rm -rf RnBeads.buildbin-libdir && mkdir RnBeads.buildbin-libdir && E:\biocbuild\bbs-3.19-bioc\R\bin\R.exe CMD INSTALL --build --library=RnBeads.buildbin-libdir RnBeads_2.22.0.tar.gz StartedAt: 2024-10-17 08:31:18 -0400 (Thu, 17 Oct 2024) EndedAt: 2024-10-17 08:35:20 -0400 (Thu, 17 Oct 2024) EllapsedTime: 241.8 seconds RetCode: 0 Status: OK PackageFile: RnBeads_2.22.0.zip PackageFileSize: 7.422 MiB