Package: RnBeads Version: 2.22.0 Command: F:\biocbuild\bbs-3.19-bioc\R\bin\R.exe CMD check --no-multiarch --install=check:RnBeads.install-out.txt --library=F:\biocbuild\bbs-3.19-bioc\R\library --no-vignettes --timings RnBeads_2.22.0.tar.gz StartedAt: 2024-06-27 05:33:54 -0400 (Thu, 27 Jun 2024) EndedAt: 2024-06-27 05:46:14 -0400 (Thu, 27 Jun 2024) EllapsedTime: 739.6 seconds RetCode: 0 Status: WARNINGS CheckDir: RnBeads.Rcheck Warnings: 1