Package: RnBeads Version: 2.22.0 Command: chmod a+r RnBeads -R && F:\biocbuild\bbs-3.19-bioc\R\bin\R.exe CMD build --keep-empty-dirs --no-resave-data RnBeads StartedAt: 2024-06-26 21:28:45 -0400 (Wed, 26 Jun 2024) EndedAt: 2024-06-26 21:33:13 -0400 (Wed, 26 Jun 2024) EllapsedTime: 268.0 seconds RetCode: 0 Status: OK PackageFile: RnBeads_2.22.0.tar.gz PackageFileSize: 7.053 MiB