Package: RnBeads Version: 2.22.0 Command: rm -rf RnBeads.buildbin-libdir && mkdir RnBeads.buildbin-libdir && F:\biocbuild\bbs-3.19-bioc\R\bin\R.exe CMD INSTALL --build --library=RnBeads.buildbin-libdir RnBeads_2.22.0.tar.gz StartedAt: 2024-06-27 08:49:04 -0400 (Thu, 27 Jun 2024) EndedAt: 2024-06-27 08:51:33 -0400 (Thu, 27 Jun 2024) EllapsedTime: 149.1 seconds RetCode: 0 Status: OK PackageFile: RnBeads_2.22.0.zip PackageFileSize: 7.423 MiB