Package: RnBeads Version: 2.22.0 Command: /home/biocbuild/bbs-3.19-bioc/R/bin/R CMD build --keep-empty-dirs --no-resave-data RnBeads StartedAt: 2024-10-16 20:30:46 -0400 (Wed, 16 Oct 2024) EndedAt: 2024-10-16 20:32:54 -0400 (Wed, 16 Oct 2024) EllapsedTime: 128.2 seconds RetCode: 0 Status: OK PackageFile: RnBeads_2.22.0.tar.gz PackageFileSize: 7.041 MiB