Package: RnBeads Version: 2.22.0 Command: /Library/Frameworks/R.framework/Resources/bin/R CMD INSTALL RnBeads StartedAt: 2024-10-16 16:46:52 -0400 (Wed, 16 Oct 2024) EndedAt: 2024-10-16 16:50:13 -0400 (Wed, 16 Oct 2024) EllapsedTime: 200.4 seconds RetCode: 0 Status: OK