Package: RnBeads Version: 2.22.0 Command: rm -rf RnBeads.buildbin-libdir && mkdir RnBeads.buildbin-libdir && /Users/biocbuild/BBS/utils/build-universal.sh RnBeads_2.22.0.tar.gz /Library/Frameworks/R.framework/Resources/bin/R RnBeads.buildbin-libdir StartedAt: 2024-10-17 17:02:20 -0400 (Thu, 17 Oct 2024) EndedAt: 2024-10-17 17:06:08 -0400 (Thu, 17 Oct 2024) EllapsedTime: 227.6 seconds RetCode: 0 Status: OK PackageFile: RnBeads_2.22.0.tgz PackageFileSize: 7.905 MiB