Package: RnBeads Version: 2.22.0 Command: /Library/Frameworks/R.framework/Resources/bin/R CMD check --install=check:RnBeads.install-out.txt --library=/Library/Frameworks/R.framework/Resources/library --no-vignettes --timings RnBeads_2.22.0.tar.gz StartedAt: 2024-06-09 22:40:53 -0400 (Sun, 09 Jun 2024) EndedAt: 2024-06-09 23:00:17 -0400 (Sun, 09 Jun 2024) EllapsedTime: 1163.5 seconds RetCode: 0 Status: OK CheckDir: RnBeads.Rcheck Warnings: 0