Package: RnBeads Version: 2.22.0 Command: /home/biocbuild/R/R-beta-2024-04-15_r86425/bin/R CMD check --install=check:RnBeads.install-out.txt --library=/home/biocbuild/R/R-beta-2024-04-15_r86425/site-library --no-vignettes --timings RnBeads_2.22.0.tar.gz StartedAt: 2024-05-09 11:21:15 -0000 (Thu, 09 May 2024) EndedAt: 2024-05-09 11:33:44 -0000 (Thu, 09 May 2024) EllapsedTime: 748.7 seconds RetCode: 0 Status: OK CheckDir: RnBeads.Rcheck Warnings: 0