Package: RnBeads Version: 2.22.0 Command: /Library/Frameworks/R.framework/Resources/bin/R CMD INSTALL RnBeads StartedAt: 2024-06-09 17:32:12 -0400 (Sun, 09 Jun 2024) EndedAt: 2024-06-09 17:34:08 -0400 (Sun, 09 Jun 2024) EllapsedTime: 115.9 seconds RetCode: 0 Status: OK