Package: RnBeads Version: 2.22.0 Command: /Library/Frameworks/R.framework/Resources/bin/R CMD check --install=check:RnBeads.install-out.txt --library=/Library/Frameworks/R.framework/Resources/library --no-vignettes --timings RnBeads_2.22.0.tar.gz StartedAt: 2024-06-11 03:33:21 -0400 (Tue, 11 Jun 2024) EndedAt: 2024-06-11 03:53:50 -0400 (Tue, 11 Jun 2024) EllapsedTime: 1228.9 seconds RetCode: 0 Status: OK CheckDir: RnBeads.Rcheck Warnings: 0