Package: RnBeads Version: 2.22.0 Command: /Library/Frameworks/R.framework/Resources/bin/R CMD build --keep-empty-dirs --no-resave-data RnBeads StartedAt: 2024-06-10 03:42:25 -0400 (Mon, 10 Jun 2024) EndedAt: 2024-06-10 03:46:31 -0400 (Mon, 10 Jun 2024) EllapsedTime: 246.0 seconds RetCode: 0 Status: OK PackageFile: RnBeads_2.22.0.tar.gz PackageFileSize: 7.564 MiB