Package: RnBeads Version: 2.22.0 Command: /Library/Frameworks/R.framework/Resources/bin/R CMD INSTALL RnBeads StartedAt: 2024-10-16 18:43:00 -0400 (Wed, 16 Oct 2024) EndedAt: 2024-10-16 18:44:35 -0400 (Wed, 16 Oct 2024) EllapsedTime: 94.8 seconds RetCode: 0 Status: OK