Package: Rmmquant Version: 1.22.0 Command: E:\biocbuild\bbs-3.19-bioc\R\bin\R.exe CMD INSTALL Rmmquant StartedAt: 2024-10-16 16:52:29 -0400 (Wed, 16 Oct 2024) EndedAt: 2024-10-16 16:53:36 -0400 (Wed, 16 Oct 2024) EllapsedTime: 66.9 seconds RetCode: 0 Status: OK