Package: Rmmquant Version: 1.22.0 Command: F:\biocbuild\bbs-3.19-bioc\R\bin\R.exe CMD check --no-multiarch --install=check:Rmmquant.install-out.txt --library=F:\biocbuild\bbs-3.19-bioc\R\library --no-vignettes --timings Rmmquant_1.22.0.tar.gz StartedAt: 2024-06-27 05:28:54 -0400 (Thu, 27 Jun 2024) EndedAt: 2024-06-27 05:34:02 -0400 (Thu, 27 Jun 2024) EllapsedTime: 308.5 seconds RetCode: 0 Status: OK CheckDir: Rmmquant.Rcheck Warnings: 0