Package: Rmmquant Version: 1.22.0 Command: rm -rf Rmmquant.buildbin-libdir && mkdir Rmmquant.buildbin-libdir && F:\biocbuild\bbs-3.19-bioc\R\bin\R.exe CMD INSTALL --build --library=Rmmquant.buildbin-libdir Rmmquant_1.22.0.tar.gz StartedAt: 2024-06-27 08:48:13 -0400 (Thu, 27 Jun 2024) EndedAt: 2024-06-27 08:49:39 -0400 (Thu, 27 Jun 2024) EllapsedTime: 86.0 seconds RetCode: 0 Status: OK PackageFile: Rmmquant_1.22.0.zip PackageFileSize: 812.7 KiB