Package: Rmmquant Version: 1.22.0 Command: /Library/Frameworks/R.framework/Resources/bin/R CMD INSTALL Rmmquant StartedAt: 2024-10-16 16:10:57 -0400 (Wed, 16 Oct 2024) EndedAt: 2024-10-16 16:13:00 -0400 (Wed, 16 Oct 2024) EllapsedTime: 122.6 seconds RetCode: 0 Status: OK