Package: Rmmquant Version: 1.22.0 Command: /Library/Frameworks/R.framework/Resources/bin/R CMD check --install=check:Rmmquant.install-out.txt --library=/Library/Frameworks/R.framework/Resources/library --no-vignettes --timings Rmmquant_1.22.0.tar.gz StartedAt: 2024-10-17 11:59:14 -0400 (Thu, 17 Oct 2024) EndedAt: 2024-10-17 12:10:19 -0400 (Thu, 17 Oct 2024) EllapsedTime: 665.2 seconds RetCode: 0 Status: OK CheckDir: Rmmquant.Rcheck Warnings: 0