Package: Rmmquant Version: 1.22.0 Command: /Library/Frameworks/R.framework/Resources/bin/R CMD check --install=check:Rmmquant.install-out.txt --library=/Library/Frameworks/R.framework/Resources/library --no-vignettes --timings Rmmquant_1.22.0.tar.gz StartedAt: 2024-06-09 22:38:38 -0400 (Sun, 09 Jun 2024) EndedAt: 2024-06-09 22:43:38 -0400 (Sun, 09 Jun 2024) EllapsedTime: 299.6 seconds RetCode: 0 Status: OK CheckDir: Rmmquant.Rcheck Warnings: 0