Package: Rmmquant Version: 1.22.0 Command: rm -rf Rmmquant.buildbin-libdir && mkdir Rmmquant.buildbin-libdir && /Users/biocbuild/BBS/utils/build-universal.sh Rmmquant_1.22.0.tar.gz /Library/Frameworks/R.framework/Resources/bin/R Rmmquant.buildbin-libdir StartedAt: 2024-06-10 00:35:55 -0400 (Mon, 10 Jun 2024) EndedAt: 2024-06-10 00:37:13 -0400 (Mon, 10 Jun 2024) EllapsedTime: 77.4 seconds RetCode: 0 Status: OK PackageFile: Rmmquant_1.22.0.tgz PackageFileSize: 457.1 KiB