Package: Rmmquant Version: 1.22.0 Command: /home/biocbuild/R/R-beta-2024-04-15_r86425/bin/R CMD build --keep-empty-dirs --no-resave-data Rmmquant StartedAt: 2024-05-09 03:04:46 -0000 (Thu, 09 May 2024) EndedAt: 2024-05-09 03:06:40 -0000 (Thu, 09 May 2024) EllapsedTime: 114.2 seconds RetCode: 0 Status: OK PackageFile: Rmmquant_1.22.0.tar.gz PackageFileSize: 45.86 KiB