Package: Rmmquant Version: 1.22.0 Command: rm -rf Rmmquant.buildbin-libdir && mkdir Rmmquant.buildbin-libdir && /Users/biocbuild/BBS/utils/build-universal.sh Rmmquant_1.22.0.tar.gz /Library/Frameworks/R.framework/Resources/bin/R Rmmquant.buildbin-libdir StartedAt: 2024-06-11 12:52:50 -0400 (Tue, 11 Jun 2024) EndedAt: 2024-06-11 12:54:45 -0400 (Tue, 11 Jun 2024) EllapsedTime: 114.7 seconds RetCode: 0 Status: OK PackageFile: Rmmquant_1.22.0.tgz PackageFileSize: 442.4 KiB