Package: Rmmquant Version: 1.22.0 Command: /Library/Frameworks/R.framework/Resources/bin/R CMD INSTALL Rmmquant StartedAt: 2024-10-16 17:41:36 -0400 (Wed, 16 Oct 2024) EndedAt: 2024-10-16 17:42:38 -0400 (Wed, 16 Oct 2024) EllapsedTime: 62.3 seconds RetCode: 0 Status: OK