Package: Rmmquant Version: 1.22.0 Command: /Library/Frameworks/R.framework/Resources/bin/R CMD check --install=check:Rmmquant.install-out.txt --library=/Library/Frameworks/R.framework/Resources/library --no-vignettes --timings Rmmquant_1.22.0.tar.gz StartedAt: 2024-10-18 09:51:14 -0400 (Fri, 18 Oct 2024) EndedAt: 2024-10-18 09:57:01 -0400 (Fri, 18 Oct 2024) EllapsedTime: 347.1 seconds RetCode: 0 Status: OK CheckDir: Rmmquant.Rcheck Warnings: 0