Package: Rmmquant Version: 1.22.0 Command: rm -rf Rmmquant.buildbin-libdir && mkdir Rmmquant.buildbin-libdir && /Users/biocbuild/BBS/utils/build-universal.sh Rmmquant_1.22.0.tar.gz /Library/Frameworks/R.framework/Resources/bin/R Rmmquant.buildbin-libdir StartedAt: 2024-10-18 20:22:02 -0400 (Fri, 18 Oct 2024) EndedAt: 2024-10-18 20:23:17 -0400 (Fri, 18 Oct 2024) EllapsedTime: 75.0 seconds RetCode: 0 Status: OK PackageFile: Rmmquant_1.22.0.tgz PackageFileSize: 440.9 KiB