Package: Rmagpie Version: 1.60.0 Command: chmod a+r Rmagpie -R && E:\biocbuild\bbs-3.19-bioc\R\bin\R.exe CMD build --keep-empty-dirs --no-resave-data Rmagpie StartedAt: 2024-10-16 21:32:54 -0400 (Wed, 16 Oct 2024) EndedAt: 2024-10-16 21:34:17 -0400 (Wed, 16 Oct 2024) EllapsedTime: 83.2 seconds RetCode: 0 Status: OK PackageFile: Rmagpie_1.60.0.tar.gz PackageFileSize: 295.3 KiB