Package: Rmagpie Version: 1.60.0 Command: rm -rf Rmagpie.buildbin-libdir && mkdir Rmagpie.buildbin-libdir && E:\biocbuild\bbs-3.19-bioc\R\bin\R.exe CMD INSTALL --build --library=Rmagpie.buildbin-libdir Rmagpie_1.60.0.tar.gz StartedAt: 2024-10-17 08:30:28 -0400 (Thu, 17 Oct 2024) EndedAt: 2024-10-17 08:31:05 -0400 (Thu, 17 Oct 2024) EllapsedTime: 37.1 seconds RetCode: 0 Status: OK PackageFile: Rmagpie_1.60.0.zip PackageFileSize: 691 KiB