Package: Rmagpie Version: 1.60.0 Command: chmod a+r Rmagpie -R && F:\biocbuild\bbs-3.19-bioc\R\bin\R.exe CMD build --keep-empty-dirs --no-resave-data Rmagpie StartedAt: 2024-06-26 21:25:50 -0400 (Wed, 26 Jun 2024) EndedAt: 2024-06-26 21:26:43 -0400 (Wed, 26 Jun 2024) EllapsedTime: 52.6 seconds RetCode: 0 Status: OK PackageFile: Rmagpie_1.60.0.tar.gz PackageFileSize: 294.4 KiB