Package: Rmagpie Version: 1.60.0 Command: /home/biocbuild/bbs-3.19-bioc/R/bin/R CMD build --keep-empty-dirs --no-resave-data Rmagpie StartedAt: 2024-10-16 20:28:35 -0400 (Wed, 16 Oct 2024) EndedAt: 2024-10-16 20:29:07 -0400 (Wed, 16 Oct 2024) EllapsedTime: 32.0 seconds RetCode: 0 Status: OK PackageFile: Rmagpie_1.60.0.tar.gz PackageFileSize: 327.5 KiB