Package: Rmagpie Version: 1.60.0 Command: /home/biocbuild/R/R-beta-2024-04-15_r86425/bin/R CMD build --keep-empty-dirs --no-resave-data Rmagpie StartedAt: 2024-05-09 03:04:00 -0000 (Thu, 09 May 2024) EndedAt: 2024-05-09 03:04:46 -0000 (Thu, 09 May 2024) EllapsedTime: 46.1 seconds RetCode: 0 Status: OK PackageFile: Rmagpie_1.60.0.tar.gz PackageFileSize: 464.7 KiB