Package: Rmagpie Version: 1.60.0 Command: /Library/Frameworks/R.framework/Resources/bin/R CMD check --install=check:Rmagpie.install-out.txt --library=/Library/Frameworks/R.framework/Resources/library --no-vignettes --timings Rmagpie_1.60.0.tar.gz StartedAt: 2024-10-18 09:50:59 -0400 (Fri, 18 Oct 2024) EndedAt: 2024-10-18 09:52:39 -0400 (Fri, 18 Oct 2024) EllapsedTime: 99.9 seconds RetCode: 0 Status: OK CheckDir: Rmagpie.Rcheck Warnings: 0