Package: Rmagpie Version: 1.60.0 Command: rm -rf Rmagpie.buildbin-libdir && mkdir Rmagpie.buildbin-libdir && /Users/biocbuild/BBS/utils/build-universal.sh Rmagpie_1.60.0.tar.gz /Library/Frameworks/R.framework/Resources/bin/R Rmagpie.buildbin-libdir StartedAt: 2024-10-18 20:21:49 -0400 (Fri, 18 Oct 2024) EndedAt: 2024-10-18 20:22:09 -0400 (Fri, 18 Oct 2024) EllapsedTime: 19.3 seconds RetCode: 0 Status: OK PackageFile: Rmagpie_1.60.0.tgz PackageFileSize: 860.4 KiB