Package: Risa Version: 1.46.0 Command: E:\biocbuild\bbs-3.19-bioc\R\bin\R.exe CMD check --no-multiarch --install=check:Risa.install-out.txt --library=E:\biocbuild\bbs-3.19-bioc\R\library --no-vignettes --timings Risa_1.46.0.tar.gz StartedAt: 2024-10-17 05:05:44 -0400 (Thu, 17 Oct 2024) EndedAt: 2024-10-17 05:11:02 -0400 (Thu, 17 Oct 2024) EllapsedTime: 317.8 seconds RetCode: 1 Status: ERROR CheckDir: Risa.Rcheck Warnings: NA