Package: Risa Version: 1.46.0 Command: F:\biocbuild\bbs-3.19-bioc\R\bin\R.exe CMD INSTALL Risa StartedAt: 2024-06-26 16:28:36 -0400 (Wed, 26 Jun 2024) EndedAt: 2024-06-26 16:29:44 -0400 (Wed, 26 Jun 2024) EllapsedTime: 68.5 seconds RetCode: 0 Status: OK