Package: Risa Version: 1.46.0 Command: /home/biocbuild/bbs-3.19-bioc/R/bin/R CMD check --install=check:Risa.install-out.txt --library=/home/biocbuild/bbs-3.19-bioc/R/site-library --timings Risa_1.46.0.tar.gz StartedAt: 2024-10-17 04:24:44 -0400 (Thu, 17 Oct 2024) EndedAt: 2024-10-17 04:29:55 -0400 (Thu, 17 Oct 2024) EllapsedTime: 311.7 seconds RetCode: 1 Status: ERROR CheckDir: Risa.Rcheck Warnings: NA