Package: Risa Version: 1.46.0 Command: /Library/Frameworks/R.framework/Resources/bin/R CMD INSTALL Risa StartedAt: 2024-10-16 16:13:46 -0400 (Wed, 16 Oct 2024) EndedAt: 2024-10-16 16:15:31 -0400 (Wed, 16 Oct 2024) EllapsedTime: 105.0 seconds RetCode: 0 Status: OK