Package: Risa Version: 1.46.0 Command: /Library/Frameworks/R.framework/Resources/bin/R CMD check --install=check:Risa.install-out.txt --library=/Library/Frameworks/R.framework/Resources/library --no-vignettes --timings Risa_1.46.0.tar.gz StartedAt: 2024-06-09 22:36:43 -0400 (Sun, 09 Jun 2024) EndedAt: 2024-06-09 22:41:53 -0400 (Sun, 09 Jun 2024) EllapsedTime: 309.4 seconds RetCode: 1 Status: ERROR CheckDir: Risa.Rcheck Warnings: NA