Package: Risa Version: 1.46.0 Command: /Library/Frameworks/R.framework/Resources/bin/R CMD build --keep-empty-dirs --no-resave-data Risa StartedAt: 2024-06-09 17:55:48 -0400 (Sun, 09 Jun 2024) EndedAt: 2024-06-09 17:57:13 -0400 (Sun, 09 Jun 2024) EllapsedTime: 84.6 seconds RetCode: 0 Status: OK PackageFile: Risa_1.46.0.tar.gz PackageFileSize: 2.105 MiB