Package: Risa Version: 1.46.0 Command: /home/biocbuild/R/R-beta-2024-04-15_r86425/bin/R CMD build --keep-empty-dirs --no-resave-data Risa StartedAt: 2024-05-09 03:02:08 -0000 (Thu, 09 May 2024) EndedAt: 2024-05-09 03:03:49 -0000 (Thu, 09 May 2024) EllapsedTime: 101.1 seconds RetCode: 0 Status: OK PackageFile: Risa_1.46.0.tar.gz PackageFileSize: 2.099 MiB