Package: Risa Version: 1.46.0 Command: /Library/Frameworks/R.framework/Resources/bin/R CMD INSTALL Risa StartedAt: 2024-10-16 17:39:33 -0400 (Wed, 16 Oct 2024) EndedAt: 2024-10-16 17:40:28 -0400 (Wed, 16 Oct 2024) EllapsedTime: 54.8 seconds RetCode: 0 Status: OK