Package: RiboProfiling Version: 1.34.0 Command: E:\biocbuild\bbs-3.19-bioc\R\bin\R.exe CMD INSTALL RiboProfiling StartedAt: 2024-10-16 16:49:14 -0400 (Wed, 16 Oct 2024) EndedAt: 2024-10-16 16:50:20 -0400 (Wed, 16 Oct 2024) EllapsedTime: 65.9 seconds RetCode: 0 Status: OK