Package: RiboProfiling Version: 1.34.0 Command: rm -rf RiboProfiling.buildbin-libdir && mkdir RiboProfiling.buildbin-libdir && E:\biocbuild\bbs-3.19-bioc\R\bin\R.exe CMD INSTALL --build --library=RiboProfiling.buildbin-libdir RiboProfiling_1.34.0.tar.gz StartedAt: 2024-10-17 08:29:55 -0400 (Thu, 17 Oct 2024) EndedAt: 2024-10-17 08:31:08 -0400 (Thu, 17 Oct 2024) EllapsedTime: 73.6 seconds RetCode: 0 Status: OK PackageFile: RiboProfiling_1.34.0.zip PackageFileSize: 4.513 MiB