Package: RiboProfiling Version: 1.34.0 Command: chmod a+r RiboProfiling -R && F:\biocbuild\bbs-3.19-bioc\R\bin\R.exe CMD build --keep-empty-dirs --no-resave-data RiboProfiling StartedAt: 2024-06-26 21:24:15 -0400 (Wed, 26 Jun 2024) EndedAt: 2024-06-26 21:27:58 -0400 (Wed, 26 Jun 2024) EllapsedTime: 222.9 seconds RetCode: 0 Status: OK PackageFile: RiboProfiling_1.34.0.tar.gz PackageFileSize: 4.42 MiB