Package: RiboProfiling Version: 1.34.0 Command: /home/biocbuild/bbs-3.19-bioc/R/bin/R CMD build --keep-empty-dirs --no-resave-data RiboProfiling StartedAt: 2024-10-16 20:26:27 -0400 (Wed, 16 Oct 2024) EndedAt: 2024-10-16 20:29:20 -0400 (Wed, 16 Oct 2024) EllapsedTime: 173.3 seconds RetCode: 0 Status: OK PackageFile: RiboProfiling_1.34.0.tar.gz PackageFileSize: 4.607 MiB