Package: RiboProfiling Version: 1.34.0 Command: /Library/Frameworks/R.framework/Resources/bin/R CMD check --install=check:RiboProfiling.install-out.txt --library=/Library/Frameworks/R.framework/Resources/library --no-vignettes --timings RiboProfiling_1.34.0.tar.gz StartedAt: 2024-10-17 11:53:38 -0400 (Thu, 17 Oct 2024) EndedAt: 2024-10-17 12:18:28 -0400 (Thu, 17 Oct 2024) EllapsedTime: 1490.0 seconds RetCode: 0 Status: WARNINGS CheckDir: RiboProfiling.Rcheck Warnings: 1