Package: RiboProfiling Version: 1.34.0 Command: /Library/Frameworks/R.framework/Resources/bin/R CMD build --keep-empty-dirs --no-resave-data RiboProfiling StartedAt: 2024-10-17 07:37:25 -0400 (Thu, 17 Oct 2024) EndedAt: 2024-10-17 07:41:20 -0400 (Thu, 17 Oct 2024) EllapsedTime: 234.5 seconds RetCode: 0 Status: OK PackageFile: RiboProfiling_1.34.0.tar.gz PackageFileSize: 4.659 MiB