Package: RiboProfiling Version: 1.34.0 Command: rm -rf RiboProfiling.buildbin-libdir && mkdir RiboProfiling.buildbin-libdir && /Users/biocbuild/BBS/utils/build-universal.sh RiboProfiling_1.34.0.tar.gz /Library/Frameworks/R.framework/Resources/bin/R RiboProfiling.buildbin-libdir StartedAt: 2024-10-18 20:20:01 -0400 (Fri, 18 Oct 2024) EndedAt: 2024-10-18 20:21:19 -0400 (Fri, 18 Oct 2024) EllapsedTime: 77.2 seconds RetCode: 0 Status: OK PackageFile: RiboProfiling_1.34.0.tgz PackageFileSize: 4.747 MiB