Package: RiboDiPA Version: 1.12.0 Command: rm -rf RiboDiPA.buildbin-libdir && mkdir RiboDiPA.buildbin-libdir && F:\biocbuild\bbs-3.19-bioc\R\bin\R.exe CMD INSTALL --build --library=RiboDiPA.buildbin-libdir RiboDiPA_1.12.0.tar.gz StartedAt: 2024-06-27 08:47:25 -0400 (Thu, 27 Jun 2024) EndedAt: 2024-06-27 08:48:42 -0400 (Thu, 27 Jun 2024) EllapsedTime: 76.9 seconds RetCode: 0 Status: OK PackageFile: RiboDiPA_1.12.0.zip PackageFileSize: 1.595 MiB